BEGIN:VCALENDAR
VERSION:2.0
PRODID:-//Общински културен център - Разград - ECPv6.15.4//NONSGML v1.0//EN
CALSCALE:GREGORIAN
METHOD:PUBLISH
X-WR-CALNAME:Общински културен център - Разград
X-ORIGINAL-URL:https://okc-razgrad.com
X-WR-CALDESC:Събития за Общински културен център - Разград
REFRESH-INTERVAL;VALUE=DURATION:PT1H
X-Robots-Tag:noindex
X-PUBLISHED-TTL:PT1H
BEGIN:VTIMEZONE
TZID:Europe/Sofia
BEGIN:DAYLIGHT
TZOFFSETFROM:+0200
TZOFFSETTO:+0300
TZNAME:EEST
DTSTART:20240331T010000
END:DAYLIGHT
BEGIN:STANDARD
TZOFFSETFROM:+0300
TZOFFSETTO:+0200
TZNAME:EET
DTSTART:20241027T010000
END:STANDARD
END:VTIMEZONE
BEGIN:VEVENT
DTSTART;TZID=Europe/Sofia:20240225T110000
DTEND;TZID=Europe/Sofia:20240225T123000
DTSTAMP:20260419T221947
CREATED:20240222T134605Z
LAST-MODIFIED:20240222T134730Z
UID:1123-1708858800-1708864200@okc-razgrad.com
SUMMARY:Филхармонията ни кани на класически концерт
DESCRIPTION:В програмата са две творби на Моцарт: Концерт за пиано №11 и Симфония №30\, солист е Сава Вутов – пиано. \nДиригент на концерта е Борис Тодоров\, концертмайстор: Божанка Николова. \nБилети на касата на ОбКЦ – Разград; \n– непосредствено преди събитието – на касата на Разградска филхармония. \n– Он-лайн продажба: https://entase.to/TQ
URL:https://okc-razgrad.com/event/%d1%84%d0%b8%d0%bb%d1%85%d0%b0%d1%80%d0%bc%d0%be%d0%bd%d0%b8%d1%8f%d1%82%d0%b0-%d0%bd%d0%b8-%d0%ba%d0%b0%d0%bd%d0%b8-%d0%bd%d0%b0-%d0%ba%d0%bb%d0%b0%d1%81%d0%b8%d1%87%d0%b5%d1%81%d0%ba%d0%b8-%d0%ba/
ATTACH;FMTTYPE=image/jpeg:https://okc-razgrad.com/wp-content/uploads/2024/02/UTF-8_B_0JrQm9CQ0KHQmNCn0JXQodCa0Jgg0JrQntCd0KbQldCg0KIgLSAyNS4wMi4yNC5qcGc_.jpg
END:VEVENT
BEGIN:VEVENT
DTSTART;TZID=Europe/Sofia:20240208T190000
DTEND;TZID=Europe/Sofia:20240208T210000
DTSTAMP:20260419T221947
CREATED:20240208T100958Z
LAST-MODIFIED:20240208T151108Z
UID:955-1707418800-1707426000@okc-razgrad.com
SUMMARY:Концерт на група "Грамофон"
DESCRIPTION:Любими руски песни в изпълнение на неподражаемите Георги Гарчов\, Петър Янкулов и Христо Софев от трио „Грамофон“ \n08.02.2024 г.\, Общински културен център \n19\,00 часа \nБилети – на касата на ОбКЦ \nЗа повече информация тел.: 0882 025 942
URL:https://okc-razgrad.com/event/%d0%b3%d1%80%d1%83%d0%bf%d0%b0-%d0%b3%d1%80%d0%b0%d0%bc%d0%be%d1%84%d0%be%d0%bd/
ATTACH;FMTTYPE=image/jpeg:https://okc-razgrad.com/wp-content/uploads/2024/01/419864881_352367517570594_3133316549300409780_n.jpg
END:VEVENT
END:VCALENDAR