BEGIN:VCALENDAR
VERSION:2.0
PRODID:-//Общински културен център - Разград - ECPv6.15.4//NONSGML v1.0//EN
CALSCALE:GREGORIAN
METHOD:PUBLISH
X-ORIGINAL-URL:https://okc-razgrad.com
X-WR-CALDESC:Събития за Общински културен център - Разград
REFRESH-INTERVAL;VALUE=DURATION:PT1H
X-Robots-Tag:noindex
X-PUBLISHED-TTL:PT1H
BEGIN:VTIMEZONE
TZID:Europe/Sofia
BEGIN:DAYLIGHT
TZOFFSETFROM:+0200
TZOFFSETTO:+0300
TZNAME:EEST
DTSTART:20240331T010000
END:DAYLIGHT
BEGIN:STANDARD
TZOFFSETFROM:+0300
TZOFFSETTO:+0200
TZNAME:EET
DTSTART:20241027T010000
END:STANDARD
END:VTIMEZONE
BEGIN:VEVENT
DTSTART;TZID=Europe/Sofia:20240227T190000
DTEND;TZID=Europe/Sofia:20240227T210000
DTSTAMP:20260419T212650
CREATED:20240222T114416Z
LAST-MODIFIED:20240222T114416Z
UID:1114-1709060400-1709067600@okc-razgrad.com
SUMMARY:„В открито море“
DESCRIPTION:27 февруари\, 19.00 ч. \nОбщински културен център \nРежисура: Христо Хр. Симеонов \nСценография: Теодор Даскалов \nМузикална среда: Орхан Ибрямов \nУчастват: Веселин Борисов\, Евгени Стефанов\, Николай Сяров\, Зехти Бамов \nБилети на касата на ОбКЦ. Цена 15 лева.
URL:https://okc-razgrad.com/event/%d0%b2-%d0%be%d1%82%d0%ba%d1%80%d0%b8%d1%82%d0%be-%d0%bc%d0%be%d1%80%d0%b5/
ATTACH;FMTTYPE=image/jpeg:https://okc-razgrad.com/wp-content/uploads/2024/02/UTF-8_B_0JzQoNCe0JbQldCaLdCQLmpwZw_.jpg
END:VEVENT
END:VCALENDAR